BEGIN:VCALENDAR
VERSION:2.0
PRODID:-//Aberdeen SANDS - ECPv6.6.2//NONSGML v1.0//EN
CALSCALE:GREGORIAN
METHOD:PUBLISH
X-ORIGINAL-URL:https://www.aberdeen-sands.org
X-WR-CALDESC:Events for Aberdeen SANDS
REFRESH-INTERVAL;VALUE=DURATION:PT1H
X-Robots-Tag:noindex
X-PUBLISHED-TTL:PT1H
BEGIN:VTIMEZONE
TZID:UTC
BEGIN:STANDARD
TZOFFSETFROM:+0000
TZOFFSETTO:+0000
TZNAME:UTC
DTSTART:20220101T000000
END:STANDARD
END:VTIMEZONE
BEGIN:VEVENT
DTSTART;TZID=UTC:20221116T190000
DTEND;TZID=UTC:20221116T210000
DTSTAMP:20260419T171939
CREATED:20220818T142831Z
LAST-MODIFIED:20220818T142831Z
UID:1216-1668625200-1668632400@www.aberdeen-sands.org
SUMMARY:Moray SANDS Support Meetings
DESCRIPTION:
URL:https://www.aberdeen-sands.org/meeting/moray-sands-support-meetings-9/
LOCATION:The Mansion House Elgin\, The Haugh\, Elgin\, IV30 1AW\, United Kingdom
END:VEVENT
BEGIN:VEVENT
DTSTART;TZID=UTC:20221116T200000
DTEND;TZID=UTC:20221116T220000
DTSTAMP:20260419T171939
CREATED:20220429T131649Z
LAST-MODIFIED:20220429T131649Z
UID:1182-1668628800-1668636000@www.aberdeen-sands.org
SUMMARY:Next Pregnancy Meeting
DESCRIPTION:
URL:https://www.aberdeen-sands.org/meeting/next-pregnancy-meeting-43/
LOCATION:Clan House\, 120 Westburn Road\, Aberdeen\, AB25 2QA
END:VEVENT
END:VCALENDAR