BEGIN:VCALENDAR
VERSION:2.0
PRODID:-//Aberdeen SANDS - ECPv6.6.2//NONSGML v1.0//EN
CALSCALE:GREGORIAN
METHOD:PUBLISH
X-ORIGINAL-URL:https://www.aberdeen-sands.org
X-WR-CALDESC:Events for Aberdeen SANDS
REFRESH-INTERVAL;VALUE=DURATION:PT1H
X-Robots-Tag:noindex
X-PUBLISHED-TTL:PT1H
BEGIN:VTIMEZONE
TZID:UTC
BEGIN:STANDARD
TZOFFSETFROM:+0000
TZOFFSETTO:+0000
TZNAME:UTC
DTSTART:20220101T000000
END:STANDARD
END:VTIMEZONE
BEGIN:VEVENT
DTSTART;TZID=UTC:20221006T200000
DTEND;TZID=UTC:20221006T220000
DTSTAMP:20260419T171938
CREATED:20220818T141214Z
LAST-MODIFIED:20220906T104504Z
UID:1190-1665086400-1665093600@www.aberdeen-sands.org
SUMMARY:Main Support Meeting
DESCRIPTION:
URL:https://www.aberdeen-sands.org/meeting/main-support-meeting-34/
LOCATION:Clan House\, 120 Westburn Road\, Aberdeen\, AB25 2QA
END:VEVENT
BEGIN:VEVENT
DTSTART;TZID=UTC:20221019T190000
DTEND;TZID=UTC:20221019T210000
DTSTAMP:20260419T171938
CREATED:20220818T142736Z
LAST-MODIFIED:20220818T142736Z
UID:1214-1666206000-1666213200@www.aberdeen-sands.org
SUMMARY:Moray SANDS Support Meetings
DESCRIPTION:
URL:https://www.aberdeen-sands.org/meeting/moray-sands-support-meetings-8/
LOCATION:The Mansion House Elgin\, The Haugh\, Elgin\, IV30 1AW\, United Kingdom
END:VEVENT
BEGIN:VEVENT
DTSTART;TZID=UTC:20221019T200000
DTEND;TZID=UTC:20221019T220000
DTSTAMP:20260419T171938
CREATED:20220429T131526Z
LAST-MODIFIED:20220429T131526Z
UID:1180-1666209600-1666216800@www.aberdeen-sands.org
SUMMARY:Next Pregnancy Meeting
DESCRIPTION:
URL:https://www.aberdeen-sands.org/meeting/next-pregnancy-meeting-42/
LOCATION:Clan House\, 120 Westburn Road\, Aberdeen\, AB25 2QA
END:VEVENT
END:VCALENDAR