BEGIN:VCALENDAR
VERSION:2.0
PRODID:-//Aberdeen SANDS - ECPv6.6.2//NONSGML v1.0//EN
CALSCALE:GREGORIAN
METHOD:PUBLISH
X-ORIGINAL-URL:https://www.aberdeen-sands.org
X-WR-CALDESC:Events for Aberdeen SANDS
REFRESH-INTERVAL;VALUE=DURATION:PT1H
X-Robots-Tag:noindex
X-PUBLISHED-TTL:PT1H
BEGIN:VTIMEZONE
TZID:UTC
BEGIN:STANDARD
TZOFFSETFROM:+0000
TZOFFSETTO:+0000
TZNAME:UTC
DTSTART:20230101T000000
END:STANDARD
END:VTIMEZONE
BEGIN:VEVENT
DTSTART;TZID=UTC:20230105T200000
DTEND;TZID=UTC:20230105T220000
DTSTAMP:20260419T123428
CREATED:20220818T141503Z
LAST-MODIFIED:20220906T104719Z
UID:1196-1672948800-1672956000@www.aberdeen-sands.org
SUMMARY:Main Support Meeting
DESCRIPTION:
URL:https://www.aberdeen-sands.org/meeting/main-support-meeting-37/
LOCATION:Clan House\, 120 Westburn Road\, Aberdeen\, AB25 2QA
END:VEVENT
BEGIN:VEVENT
DTSTART;TZID=UTC:20230118T190000
DTEND;TZID=UTC:20230118T210000
DTSTAMP:20260419T123428
CREATED:20220818T143022Z
LAST-MODIFIED:20220818T143022Z
UID:1220-1674068400-1674075600@www.aberdeen-sands.org
SUMMARY:Moray SANDS Support Meetings
DESCRIPTION:
URL:https://www.aberdeen-sands.org/meeting/moray-sands-support-meetings-11/
LOCATION:The Mansion House Elgin\, The Haugh\, Elgin\, IV30 1AW\, United Kingdom
END:VEVENT
BEGIN:VEVENT
DTSTART;TZID=UTC:20230118T200000
DTEND;TZID=UTC:20230118T220000
DTSTAMP:20260419T123428
CREATED:20220818T142114Z
LAST-MODIFIED:20220818T142114Z
UID:1208-1674072000-1674079200@www.aberdeen-sands.org
SUMMARY:Next Pregnancy Meeting
DESCRIPTION:
URL:https://www.aberdeen-sands.org/meeting/next-pregnancy-meeting-49/
LOCATION:Clan House\, 120 Westburn Road\, Aberdeen\, AB25 2QA
END:VEVENT
END:VCALENDAR